BEGIN:VCALENDAR
VERSION:2.0
PRODID:-//ChamberMaster//Event Calendar 2.0//EN
METHOD:PUBLISH
X-PUBLISHED-TTL:P1H
REFRESH-INTERVAL:P1H
CALSCALE:GREGORIAN
BEGIN:VTIMEZONE
TZID:America/Los_Angeles
BEGIN:DAYLIGHT
RRULE:FREQ=YEARLY;BYMONTH=3;BYDAY=2SU
DTSTART:20070101T000000
TZOFFSETFROM:-0800
TZOFFSETTO:-0700
TZNAME:Pacific Daylight Time
END:DAYLIGHT
BEGIN:STANDARD
RRULE:FREQ=YEARLY;BYMONTH=11;BYDAY=1SU
DTSTART:20070101T000000
TZOFFSETFROM:-0700
TZOFFSETTO:-0800
TZNAME:Pacific Standard Time
END:STANDARD
END:VTIMEZONE
BEGIN:VEVENT
DTSTART;TZID=America/Los_Angeles:20260918T110000
DTEND;TZID=America/Los_Angeles:20260920T170000
X-MICROSOFT-CDO-ALLDAYEVENT:FALSE
SUMMARY:Homes of Tomorrow Today Tour - Save the Date!
DESCRIPTION:SAVE THE DATES! Visit www.homesoftomorrowpdx.com to purchase tickets and for more information.
X-ALT-DESC;FMTTYPE=text/html:<!DOCTYPE html><html><head><title></title></head><body aria-disabled="false"><p>SAVE THE DATES! Visit <a fr-original-style="" href="http://www.homesoftomorrowpdx.com" rel="noopener noreferrer" style="user-select: auto\;" target="_blank">www.homesoftomorrowpdx.com</a> to purchase tickets and for more information.</p></body></html>
LOCATION:
UID:e.4788.1427069
SEQUENCE:3
DTSTAMP:20260422T044850Z
URL:https://homebuildingassociationofgreaterportland.growthzoneapp.com/hbaeventcalendar/Details/homes-of-tomorrow-today-tour-save-the-date-1687792?sourceTypeId=Hub
END:VEVENT
END:VCALENDAR
