BEGIN:VCALENDAR
VERSION:2.0
PRODID:-//ChamberMaster//Event Calendar 2.0//EN
METHOD:PUBLISH
X-PUBLISHED-TTL:P1H
REFRESH-INTERVAL:P1H
CALSCALE:GREGORIAN
BEGIN:VTIMEZONE
TZID:America/Los_Angeles
BEGIN:DAYLIGHT
RRULE:FREQ=YEARLY;BYMONTH=3;BYDAY=2SU
DTSTART:20070101T000000
TZOFFSETFROM:-0800
TZOFFSETTO:-0700
TZNAME:Pacific Daylight Time
END:DAYLIGHT
BEGIN:STANDARD
RRULE:FREQ=YEARLY;BYMONTH=11;BYDAY=1SU
DTSTART:20070101T000000
TZOFFSETFROM:-0700
TZOFFSETTO:-0800
TZNAME:Pacific Standard Time
END:STANDARD
END:VTIMEZONE
BEGIN:VEVENT
DTSTART;TZID=America/Los_Angeles:20260514T153000
DTEND;TZID=America/Los_Angeles:20260514T170000
X-MICROSOFT-CDO-ALLDAYEVENT:FALSE
SUMMARY:HBA Peer-to-Peer Roundtable Event hosted by the Remodeling & Custom Building (RCB) Council
DESCRIPTION:TOPIC Coming Soon! – Peer-to-Peer Roundtable Discussion Event with HBA custom builders\, remodelers\, and industry associates \n\nThe Remodeling + Custom Building Council (RCB) is hosting curated conversations covering industry topics and challenges relevant to all businesses regardless of budget size\, employee count\, or years in the industry. On May 14\, join the RCB Council members as they lead the discussion with peers.\n\nRegistration is $40 and opens April 2\, 2026\n \nAn All-Member Happy Hour hosted by Standard TV + Appliance immediately follows this session and is included in this registration fee. Thank you\, Standard TV & Appliance\, for hosting both of these HBA May events!\n\nIf you wish to only attend the All-Member Happy Hour and not the Peer-to-Peer Roundtable Event\, please click here to register for only the All-Member Happy Hour.\n\nIf you are not a current member of the Remodeling & Custom Building (RCB) Council and want to be\, we have a special offer for you. If you join the RCB Council before this event ($85 per year)\, you can attend this event for free! Email info@hbapdx.org or call the office to become an RCB member today.\n\nThe HBA RCB Council Peer-To-Peer Roundtable events will be held 3-4 times a year and will have limited seats. Spots will be open for a maximum of 15 builders/remodelers and 15 associates. Join the RCB Council for a first-chance registration notice to attend future events.
X-ALT-DESC;FMTTYPE=text/html:TOPIC Coming Soon! – Peer-to-Peer Roundtable Discussion Event with HBA custom builders\, remodelers\, and industry associates \n\nThe Remodeling + Custom Building Council (RCB) is hosting curated conversations covering industry topics and challenges relevant to all businesses regardless of budget size\, employee count\, or years in the industry. On May 14\, join the RCB Council members as they lead the discussion with peers.\n\nRegistration is $40 and opens April 2\, 2026\n \nAn All-Member Happy Hour hosted by Standard TV + Appliance immediately follows this session and is included in this registration fee. Thank you\, Standard TV & Appliance\, for hosting both of these HBA May events!\n\nIf you wish to only attend the All-Member Happy Hour and not the Peer-to-Peer Roundtable Event\, please click here to register for only the All-Member Happy Hour.\n\nIf you are not a current member of the Remodeling & Custom Building (RCB) Council and want to be\, we have a special offer for you. If you join the RCB Council before this event ($85 per year)\, you can attend this event for free! Email info@hbapdx.org or call the office to become an RCB member today.\n\nThe HBA RCB Council Peer-To-Peer Roundtable events will be held 3-4 times a year and will have limited seats. Spots will be open for a maximum of 15 builders/remodelers and 15 associates. Join the RCB Council for a first-chance registration notice to attend future events.
LOCATION:3600 SW Hall Blvd. Beaverton OR 97005
UID:e.4788.1427257
SEQUENCE:3
DTSTAMP:20260422T012846Z
URL:https://homebuildingassociationofgreaterportland.growthzoneapp.com/hbaeventcalendar/Details/hba-peer-to-peer-roundtable-event-hosted-by-the-remodeling-custom-building-rcb-council-1687986?sourceTypeId=Hub
END:VEVENT
END:VCALENDAR
