BEGIN:VCALENDAR
VERSION:2.0
PRODID:-//ChamberMaster//Event Calendar 2.0//EN
METHOD:PUBLISH
X-PUBLISHED-TTL:P1H
REFRESH-INTERVAL:P1H
CALSCALE:GREGORIAN
BEGIN:VTIMEZONE
TZID:America/Los_Angeles
BEGIN:DAYLIGHT
RRULE:FREQ=YEARLY;BYMONTH=3;BYDAY=2SU
DTSTART:20070101T000000
TZOFFSETFROM:-0800
TZOFFSETTO:-0700
TZNAME:Pacific Daylight Time
END:DAYLIGHT
BEGIN:STANDARD
RRULE:FREQ=YEARLY;BYMONTH=11;BYDAY=1SU
DTSTART:20070101T000000
TZOFFSETFROM:-0700
TZOFFSETTO:-0800
TZNAME:Pacific Standard Time
END:STANDARD
END:VTIMEZONE
BEGIN:VEVENT
DTSTART;TZID=America/Los_Angeles:20260813T170000
DTEND;TZID=America/Los_Angeles:20260813T190000
X-MICROSOFT-CDO-ALLDAYEVENT:FALSE
SUMMARY:All Member Happy Hour presented by Standard TV & Appliances at NW Natural Street of Dreams
DESCRIPTION:All members are invited to join us at the VIP Space at our 2026 NW Natural Street of Dreams Featured Site - Serres Farms - for this highly anticipated happy hour event! Mix and mingle with your fellow HBA members while you tour show-stopping luxury homes.\n\nUse your HBA member benefit tickets to come early to view the six (6) spectacular homes on site. Admission is required to enter the homes.\n\nAll members and their guests are invited to attend. Registration opens June 25!\n\nIf you require ADA accommodations\, please email us at info@hbapdx.org.
X-ALT-DESC;FMTTYPE=text/html:All members are invited to join us at the VIP Space at our 2026 NW Natural Street of Dreams Featured Site - Serres Farms - for this highly anticipated happy hour event! Mix and mingle with your fellow HBA members while you tour show-stopping luxury homes.\n\nUse your HBA member benefit tickets to come early to view the six (6) spectacular homes on site. Admission is required to enter the homes.\n\nAll members and their guests are invited to attend. Registration opens June 25!\n\nIf you require ADA accommodations\, please email us at info@hbapdx.org.
LOCATION:Oregon City OR 97045
UID:e.4788.1427247
SEQUENCE:3
DTSTAMP:20260422T012845Z
URL:https://homebuildingassociationofgreaterportland.growthzoneapp.com/hbaeventcalendar/Details/all-member-happy-hour-presented-by-standard-tv-appliances-at-nw-natural-street-of-dreams-1687977?sourceTypeId=Hub
END:VEVENT
END:VCALENDAR
