BEGIN:VCALENDAR
VERSION:2.0
PRODID:-//ChamberMaster//Event Calendar 2.0//EN
METHOD:PUBLISH
X-PUBLISHED-TTL:P1H
REFRESH-INTERVAL:P1H
CALSCALE:GREGORIAN
BEGIN:VTIMEZONE
TZID:America/Los_Angeles
BEGIN:DAYLIGHT
RRULE:FREQ=YEARLY;BYMONTH=3;BYDAY=2SU
DTSTART:20070101T000000
TZOFFSETFROM:-0800
TZOFFSETTO:-0700
TZNAME:Pacific Daylight Time
END:DAYLIGHT
BEGIN:STANDARD
RRULE:FREQ=YEARLY;BYMONTH=11;BYDAY=1SU
DTSTART:20070101T000000
TZOFFSETFROM:-0700
TZOFFSETTO:-0800
TZNAME:Pacific Standard Time
END:STANDARD
END:VTIMEZONE
BEGIN:VEVENT
DTSTART;TZID=America/Los_Angeles:20260514T173000
DTEND;TZID=America/Los_Angeles:20260514T193000
X-MICROSOFT-CDO-ALLDAYEVENT:FALSE
SUMMARY:All Member Happy Hour presented by Standard TV & Appliances and programmed by the RCB Council
DESCRIPTION:Join HBA for an All-Member Happy Hour at Standard TV & Appliance Beaverton Showroom\, with programming from the Remodeling and Custom Building Council that is relevant to all HBA members.\n\nMingle and connect with fellow HBA members! Our All Members Happy Hours are not only a fun way to meet and network with peers—they’re also a chance to gain valuable industry insights. Each event features a brief 10–15 minute Q&A with RCB leaders\, who will share key takeaways from the earlier peer-to-peer roundtable discussion.
X-ALT-DESC;FMTTYPE=text/html:Join HBA for an All-Member Happy Hour at Standard TV & Appliance Beaverton Showroom\, with programming from the Remodeling and Custom Building Council that is relevant to all HBA members.\n\nMingle and connect with fellow HBA members! Our All Members Happy Hours are not only a fun way to meet and network with peers—they’re also a chance to gain valuable industry insights. Each event features a brief 10–15 minute Q&A with RCB leaders\, who will share key takeaways from the earlier peer-to-peer roundtable discussion.
LOCATION:3600 SW Hall Blvd. Beaverton OR 97005
UID:e.4788.1427096
SEQUENCE:3
DTSTAMP:20260422T012845Z
URL:https://homebuildingassociationofgreaterportland.growthzoneapp.com/hbaeventcalendar/Details/all-member-happy-hour-presented-by-standard-tv-appliances-and-programmed-by-the-rcb-council-1687824?sourceTypeId=Hub
END:VEVENT
END:VCALENDAR
